BEGIN:VCALENDAR
VERSION:2.0
PRODID:-//ChamberMaster//Event Calendar 2.0//EN
METHOD:PUBLISH
X-PUBLISHED-TTL:P1H
REFRESH-INTERVAL:P1H
CALSCALE:GREGORIAN
BEGIN:VTIMEZONE
TZID:America/Chicago
BEGIN:DAYLIGHT
RRULE:FREQ=YEARLY;BYMONTH=3;BYDAY=2SU
DTSTART:20070101T000000
TZOFFSETFROM:-0600
TZOFFSETTO:-0500
TZNAME:Central Daylight Time
END:DAYLIGHT
BEGIN:STANDARD
RRULE:FREQ=YEARLY;BYMONTH=11;BYDAY=1SU
DTSTART:20070101T000000
TZOFFSETFROM:-0500
TZOFFSETTO:-0600
TZNAME:Central Standard Time
END:STANDARD
END:VTIMEZONE
BEGIN:VEVENT
DTSTART;TZID=America/Chicago:20270414T093000
DTEND;TZID=America/Chicago:20270414T103000
X-MICROSOFT-CDO-ALLDAYEVENT:FALSE
SUMMARY:NKCC Ambassador’s Monthly Meeting – Become an Ambassador Today
DESCRIPTION:Purpose: The Northern Kane County Ambassadors Committee is comprised of local business professionals who function as the public relations arm of the chamber\, intent on growing & retaining membership by providing an educated approach to the benefits\, services\, & events offered through the chamber. Becoming involved in a committee gives your business additional exposure as well. Benefits: Ambassador listings in monthly correspondence/email blasts when appropriate Special name tags Recognition at events First opportunity to meet/introduce yourself to new members Increased exposure due to involvement in Chamber events & Business after hours Group photo taken annually for use in newsletters/directory Meetings:  Meet our Ambassadors: Cheryl Alopogianis ~ Tastefully Simple ~ calopogianis@hotmail.com Bryant Crawford ~ 5-Star Computer Services\, Inc. ~ Bcrawford@5-starcomputers.com Arlene De La Cruz ~ The Matrix Group ~ Arlene.sa.delacruz@gmail.com Hanadi Dib ~ First American Bank ~ Hdib@Firstambank.com Vicki Genz ~ RealtyOneGroup Karmma ~ vicki@newviewgr.com Cornelia Krueger ~ Avon Consultant ~ cgkrueger@sbcglobal.net Ann Meyer ~ Ann Meyer Agency\, Farmers Ins. ~ Ameyer@farmersagent.com James Byrnes ~ Broker\, Baird & Warner ~ james.byrnes.realtor@gmail.com If you are interested in becoming involved on our Ambassador Committee\, please contact the Chamber office 847-426-8565.
X-ALT-DESC;FMTTYPE=text/html:<!DOCTYPE html><html><head><title></title></head><body aria-disabled="false"><p>Purpose: The Northern Kane County Ambassadors Committee is comprised of local business professionals who function as the public relations arm of the chamber\, intent on growing &amp\; retaining membership by providing an educated approach to the benefits\, services\, &amp\; events offered through the chamber. Becoming involved in a committee gives your business additional exposure as well. Benefits: Ambassador listings in monthly correspondence/email blasts when appropriate Special name tags Recognition at events First opportunity to meet/introduce yourself to new members Increased exposure due to involvement in Chamber events &amp\; Business after hours Group photo taken annually for use in newsletters/directory Meetings: &nbsp\;Meet our Ambassadors: Cheryl Alopogianis ~ Tastefully Simple ~ calopogianis@hotmail.com Bryant Crawford ~ 5-Star Computer Services\, Inc. ~ Bcrawford@5-starcomputers.com Arlene De La Cruz ~ The Matrix Group ~ Arlene.sa.delacruz@gmail.com Hanadi Dib ~ First American Bank ~ Hdib@Firstambank.com Vicki Genz ~ RealtyOneGroup Karmma ~ vicki@newviewgr.com Cornelia Krueger ~ Avon Consultant ~ cgkrueger@sbcglobal.net Ann Meyer ~ Ann Meyer Agency\, Farmers Ins. ~ Ameyer@farmersagent.com James Byrnes ~ Broker\, Baird &amp\; Warner ~ james.byrnes.realtor@gmail.com If you are interested in becoming involved on our Ambassador Committee\, please contact the Chamber office 847-426-8565.</p></body></html>
LOCATION:20 S. Grove St. Ste 102 Carpentersville IL 60110
UID:e.3938.980573
SEQUENCE:3
DTSTAMP:20260424T001725Z
URL:https://business.nkcchamber.com/calendar/Details/nkcc-ambassador-s-monthly-meeting-become-an-ambassador-today-1121561?sourceTypeId=Hub
END:VEVENT
END:VCALENDAR
