BEGIN:VCALENDAR
VERSION:2.0
PRODID:-//ChamberMaster//Event Calendar 2.0//EN
METHOD:PUBLISH
X-PUBLISHED-TTL:P1H
REFRESH-INTERVAL:P1H
CALSCALE:GREGORIAN
BEGIN:VTIMEZONE
TZID:America/Chicago
BEGIN:DAYLIGHT
RRULE:FREQ=YEARLY;BYMONTH=3;BYDAY=2SU
DTSTART:20070101T000000
TZOFFSETFROM:-0600
TZOFFSETTO:-0500
TZNAME:Central Daylight Time
END:DAYLIGHT
BEGIN:STANDARD
RRULE:FREQ=YEARLY;BYMONTH=11;BYDAY=1SU
DTSTART:20070101T000000
TZOFFSETFROM:-0500
TZOFFSETTO:-0600
TZNAME:Central Standard Time
END:STANDARD
END:VTIMEZONE
BEGIN:VEVENT
DTSTART;TZID=America/Chicago:20260804T170000
DTEND;TZID=America/Chicago:20260804T200000
X-MICROSOFT-CDO-ALLDAYEVENT:FALSE
SUMMARY:National Night Out 2026
DESCRIPTION:National Night Out is a free event that promotes police-community partnerships and neighborhood camaraderie to make our neighborhoods safer\, more caring places to live. Hosted by The Village of Carpentersville Public Safety\, Village of East Dundee\, Village of Sleepy Hollow\, Village of West Dundee & Dundee Township Park District. The annual event serves as a platform to foster stronger police and community partnerships while nurturing neighborhood camaraderie. With each passing year\, this gathering continues to expand\, introducing an ever-widening range of family-friendly activities. Located at Carpenter Park in Carpentersville\, this event is a collaborative effort involving Carpentersville Public Safety\, East Dundee Police\, West Dundee Police\, and Sleepy Hollow Police. The whole community is invited to join in for an enjoyable evening filled with complimentary activities.
X-ALT-DESC;FMTTYPE=text/html:<!DOCTYPE html><html><head><title></title></head><body aria-disabled="false"><p>National Night Out is a free event that promotes police-community partnerships and neighborhood camaraderie to make our neighborhoods safer\, more caring places to live.&nbsp\;</p><p>Hosted by The Village of Carpentersville Public Safety\, Village of East Dundee\, Village of Sleepy Hollow\, Village of West Dundee &amp\; Dundee Township Park District.&nbsp\;</p><p>The annual event serves as a platform to foster stronger police and community partnerships while nurturing neighborhood camaraderie. With each passing year\, this gathering continues to expand\, introducing an ever-widening range of family-friendly activities. Located at Carpenter Park in Carpentersville\, this event is a collaborative effort involving Carpentersville Public Safety\, East Dundee Police\, West Dundee Police\, and Sleepy Hollow Police. The whole community is invited to join in for an enjoyable evening filled with complimentary activities.</p><p><br></p></body></html>
LOCATION:275 Maple Carpentersville 60110
UID:e.3938.1447365
SEQUENCE:3
DTSTAMP:20260424T001308Z
URL:https://business.nkcchamber.com/calendar/Details/national-night-out-2026-1714303?sourceTypeId=Hub
END:VEVENT
END:VCALENDAR
